BEGIN:VCALENDAR
VERSION:2.0
PRODID:-//Damanhur Academy - ECPv6.15.20//NONSGML v1.0//EN
CALSCALE:GREGORIAN
METHOD:PUBLISH
X-WR-CALNAME:Damanhur Academy
X-ORIGINAL-URL:https://damanhur.academy
X-WR-CALDESC:Events for Damanhur Academy
REFRESH-INTERVAL;VALUE=DURATION:PT1H
X-Robots-Tag:noindex
X-PUBLISHED-TTL:PT1H
BEGIN:VTIMEZONE
TZID:Europe/Rome
BEGIN:DAYLIGHT
TZOFFSETFROM:+0100
TZOFFSETTO:+0200
TZNAME:CEST
DTSTART:20200329T010000
END:DAYLIGHT
BEGIN:STANDARD
TZOFFSETFROM:+0200
TZOFFSETTO:+0100
TZNAME:CET
DTSTART:20201025T010000
END:STANDARD
BEGIN:DAYLIGHT
TZOFFSETFROM:+0100
TZOFFSETTO:+0200
TZNAME:CEST
DTSTART:20210328T010000
END:DAYLIGHT
BEGIN:STANDARD
TZOFFSETFROM:+0200
TZOFFSETTO:+0100
TZNAME:CET
DTSTART:20211031T010000
END:STANDARD
BEGIN:DAYLIGHT
TZOFFSETFROM:+0100
TZOFFSETTO:+0200
TZNAME:CEST
DTSTART:20220327T010000
END:DAYLIGHT
BEGIN:STANDARD
TZOFFSETFROM:+0200
TZOFFSETTO:+0100
TZNAME:CET
DTSTART:20221030T010000
END:STANDARD
BEGIN:DAYLIGHT
TZOFFSETFROM:+0100
TZOFFSETTO:+0200
TZNAME:CEST
DTSTART:20230326T010000
END:DAYLIGHT
BEGIN:STANDARD
TZOFFSETFROM:+0200
TZOFFSETTO:+0100
TZNAME:CET
DTSTART:20231029T010000
END:STANDARD
BEGIN:DAYLIGHT
TZOFFSETFROM:+0100
TZOFFSETTO:+0200
TZNAME:CEST
DTSTART:20240331T010000
END:DAYLIGHT
BEGIN:STANDARD
TZOFFSETFROM:+0200
TZOFFSETTO:+0100
TZNAME:CET
DTSTART:20241027T010000
END:STANDARD
BEGIN:DAYLIGHT
TZOFFSETFROM:+0100
TZOFFSETTO:+0200
TZNAME:CEST
DTSTART:20250330T010000
END:DAYLIGHT
BEGIN:STANDARD
TZOFFSETFROM:+0200
TZOFFSETTO:+0100
TZNAME:CET
DTSTART:20251026T010000
END:STANDARD
END:VTIMEZONE
BEGIN:VEVENT
DTSTART;VALUE=DATE:20241102
DTEND;VALUE=DATE:20241104
DTSTAMP:20260420T200319
CREATED:20240613T123442Z
LAST-MODIFIED:20240613T124026Z
UID:10000645-1730505600-1730678399@damanhur.academy
SUMMARY:SPIRITUAL HEALERS SCHOOL\, 1st year
DESCRIPTION:  \nFor more information and registrations\, please click here for ENGLISH\nhere for ITALIAN
URL:https://damanhur.academy/event/spiritual-healers-school-1st-year-4/
CATEGORIES:School,School for Spiritual Healers
ATTACH;FMTTYPE=image/png:https://damanhur.academy/wp-content/uploads/2023/11/Make-Money-Youtube-Thumbnail-12.png
ORGANIZER;CN="Damanhur Academy":MAILTO:info@damanhuruniversity.org
END:VEVENT
BEGIN:VEVENT
DTSTART;VALUE=DATE:20240203
DTEND;VALUE=DATE:20240205
DTSTAMP:20260420T200319
CREATED:20231115T100945Z
LAST-MODIFIED:20231204T114501Z
UID:10000358-1706918400-1707091199@damanhur.academy
SUMMARY:SPIRITUAL HEALERS SCHOOL\, 1st year
DESCRIPTION:  \nFor more information and registrations\, please click here.
URL:https://damanhur.academy/event/spiritual-healers-school-1st-year-3/
CATEGORIES:School,School for Spiritual Healers
ATTACH;FMTTYPE=image/png:https://damanhur.academy/wp-content/uploads/2023/11/Make-Money-Youtube-Thumbnail-12.png
ORGANIZER;CN="Damanhur Academy":MAILTO:info@damanhuruniversity.org
END:VEVENT
BEGIN:VEVENT
DTSTART;VALUE=DATE:20240203
DTEND;VALUE=DATE:20240205
DTSTAMP:20260420T200319
CREATED:20230912T091217Z
LAST-MODIFIED:20231117T090515Z
UID:10000584-1706918400-1707091199@damanhur.academy
SUMMARY:THE POWER OF SPIRITUAL HEALING - Introductory Course
DESCRIPTION:The training programs Damanhur’s Spiritual Healers School offers are based on knowledge derived from over 40 years of holistic healing experience. \nStudents are methodically guided on a path of personal transformation and offered tools to discover their innate healing power\, through both individual and group work. \nFor more information\, schedule and subjects click here.  \nOr write to info@damanhuruniversity.org
URL:https://damanhur.academy/event/the-power-of-spiritual-healing-introductory-course-3/
LOCATION:ONLINE
CATEGORIES:School,School for Spiritual Healers
ATTACH;FMTTYPE=image/png:https://damanhur.academy/wp-content/uploads/2023/09/Make-Money-Youtube-Thumbnail-11.png
ORGANIZER;CN="Damanhur Academy":MAILTO:info@damanhuruniversity.org
END:VEVENT
BEGIN:VEVENT
DTSTART;VALUE=DATE:20230814
DTEND;VALUE=DATE:20230827
DTSTAMP:20260420T200319
CREATED:20230329T085352Z
LAST-MODIFIED:20230530T084606Z
UID:10000533-1691971200-1693094399@damanhur.academy
SUMMARY:Spiritual Healers School - First Year Intensive 12 days residential
DESCRIPTION:The training programs Damanhur’s Spiritual Healers School offers are based on knowledge derived from over 40 years of holistic healing experience. \nStudents are methodically guided on a path of personal transformation and offered tools to discover their innate healing power\, through both individual and group work. \nThe learning process aims to first prepare students to become Healers.\nThis preparation involves opening up powerful energy channels and learning how to access and use a highly refined cosmic healing energy called prana. Students will learn the theory and the practice of pranotherapy\, the technique for the transmission of pranic energies for healing purposes. The techniques and knowledge behind our courses are based on stem from the teachings of Falco Tarassaco and wholistic healing research done in Damanhur for over 40 years. \nClick here for more information. \nOr write to info@damanhuruniversity.org
URL:https://damanhur.academy/event/spiritual-healers-school-first-year-intensive/
LOCATION:Damanhur Federazione di Comunità\, Via Baldissero\, 21\, 10080 Vidracco TO\, Italia
CATEGORIES:School,School for Spiritual Healers
ATTACH;FMTTYPE=image/jpeg:https://damanhur.academy/wp-content/uploads/2023/03/photo_2021-03-30_12-44-47_1_2x.jpeg
ORGANIZER;CN="Damanhur Academy":MAILTO:info@damanhuruniversity.org
END:VEVENT
BEGIN:VEVENT
DTSTART;VALUE=DATE:20221203
DTEND;VALUE=DATE:20221205
DTSTAMP:20260420T200319
CREATED:20220719T104516Z
LAST-MODIFIED:20221005T095416Z
UID:10000375-1670025600-1670198399@damanhur.academy
SUMMARY:SPIRITUAL HEALERS SCHOOL\, 1st year
DESCRIPTION:For more information and registrations in English\, please click here.\nFor more information and registrations in Italian\, please click here.
URL:https://damanhur.academy/event/spiritual-healers-school-1st-year-2/
LOCATION:ONLINE
CATEGORIES:School,School for Spiritual Healers
ATTACH;FMTTYPE=image/jpeg:https://damanhur.academy/wp-content/uploads/2021/04/photo_2021-03-30_12-44-47.jpg
ORGANIZER;CN="Damanhur Academy":MAILTO:info@damanhuruniversity.org
END:VEVENT
BEGIN:VEVENT
DTSTART;VALUE=DATE:20220409
DTEND;VALUE=DATE:20220411
DTSTAMP:20260420T200319
CREATED:20211217T102458Z
LAST-MODIFIED:20220413T073528Z
UID:10000357-1649462400-1649635199@damanhur.academy
SUMMARY:SPIRITUAL HEALERS SCHOOL\, 1st year
DESCRIPTION:  \nFor more information and registrations\, please click here.
URL:https://damanhur.academy/event/spiritual-healers-school-1st-year/2022-04-09/
CATEGORIES:School,School for Spiritual Healers
ATTACH;FMTTYPE=image/jpeg:https://damanhur.academy/wp-content/uploads/2021/04/photo_2021-03-30_12-44-47.jpg
ORGANIZER;CN="Damanhur Academy":MAILTO:info@damanhuruniversity.org
END:VEVENT
BEGIN:VEVENT
DTSTART;VALUE=DATE:20211104
DTEND;VALUE=DATE:20211106
DTSTAMP:20260420T200319
CREATED:20230828T105248Z
LAST-MODIFIED:20230828T105248Z
UID:10000580-1635984000-1636156799@damanhur.academy
SUMMARY:THE POWER OF SPIRITUAL HEALING - Introductory Course
DESCRIPTION:The training programs Damanhur’s Spiritual Healers School offers are based on knowledge derived from over 40 years of holistic healing experience. \nStudents are methodically guided on a path of personal transformation and offered tools to discover their innate healing power\, through both individual and group work. \nFor more information\, schedule and subjects click here.  \nOr write to info@damanhuruniversity.org
URL:https://damanhur.academy/event/the-power-of-spiritual-healing-introductory-course-2/
CATEGORIES:School,School for Spiritual Healers
ATTACH;FMTTYPE=image/png:https://damanhur.academy/wp-content/uploads/2022/12/4_2x.png
ORGANIZER;CN="Damanhur Academy":MAILTO:info@damanhuruniversity.org
END:VEVENT
BEGIN:VEVENT
DTSTART;VALUE=DATE:20211104
DTEND;VALUE=DATE:20211106
DTSTAMP:20260420T200319
CREATED:20230329T084955Z
LAST-MODIFIED:20230329T084955Z
UID:10000532-1635984000-1636156799@damanhur.academy
SUMMARY:THE POWER OF SPIRITUAL HEALING - Introductory Course
DESCRIPTION:For more information write to info@damanhuruniversity.org
URL:https://damanhur.academy/event/the-power-of-spiritual-healing-introductory-course/
CATEGORIES:School,School for Spiritual Healers
ATTACH;FMTTYPE=image/png:https://damanhur.academy/wp-content/uploads/2022/12/4_2x.png
ORGANIZER;CN="Damanhur Academy":MAILTO:info@damanhuruniversity.org
END:VEVENT
END:VCALENDAR