BEGIN:VCALENDAR
VERSION:2.0
PRODID:-//Damanhur Academy - ECPv6.15.20//NONSGML v1.0//EN
CALSCALE:GREGORIAN
METHOD:PUBLISH
X-WR-CALNAME:Damanhur Academy
X-ORIGINAL-URL:https://damanhur.academy
X-WR-CALDESC:Events for Damanhur Academy
REFRESH-INTERVAL;VALUE=DURATION:PT1H
X-Robots-Tag:noindex
X-PUBLISHED-TTL:PT1H
BEGIN:VTIMEZONE
TZID:Europe/Rome
BEGIN:DAYLIGHT
TZOFFSETFROM:+0100
TZOFFSETTO:+0200
TZNAME:CEST
DTSTART:20220327T010000
END:DAYLIGHT
BEGIN:STANDARD
TZOFFSETFROM:+0200
TZOFFSETTO:+0100
TZNAME:CET
DTSTART:20221030T010000
END:STANDARD
BEGIN:DAYLIGHT
TZOFFSETFROM:+0100
TZOFFSETTO:+0200
TZNAME:CEST
DTSTART:20230326T010000
END:DAYLIGHT
BEGIN:STANDARD
TZOFFSETFROM:+0200
TZOFFSETTO:+0100
TZNAME:CET
DTSTART:20231029T010000
END:STANDARD
BEGIN:DAYLIGHT
TZOFFSETFROM:+0100
TZOFFSETTO:+0200
TZNAME:CEST
DTSTART:20240331T010000
END:DAYLIGHT
BEGIN:STANDARD
TZOFFSETFROM:+0200
TZOFFSETTO:+0100
TZNAME:CET
DTSTART:20241027T010000
END:STANDARD
END:VTIMEZONE
BEGIN:VEVENT
DTSTART;VALUE=DATE:20230819
DTEND;VALUE=DATE:20230821
DTSTAMP:20260420T230728
CREATED:20230208T101334Z
LAST-MODIFIED:20230607T110010Z
UID:33052-1692403200-1692575999@damanhur.academy
SUMMARY:Reincarnation: past lives research course. Online.
DESCRIPTION:Impossible memories\, faces\, unknown places yet familiar\, unexplained fears\, innate abilities…\n\nYou can search yourself for your past\, perceive a still point in human consciousness\, the certainty of not ending in nothingness. \nTo register\, reservations are required at least 30 days before the course start date. \nThis course will take place online. \nFor more information and registrations\, please click here.
URL:https://damanhur.academy/event/past-lives-research-online-levels-1-4-2/
LOCATION:ONLINE
CATEGORIES:Online live
ATTACH;FMTTYPE=image/jpeg:https://damanhur.academy/wp-content/uploads/2021/12/vite-precedenti-large.jpeg
ORGANIZER;CN="Damanhur Academy":MAILTO:info@damanhuruniversity.org
END:VEVENT
END:VCALENDAR