BEGIN:VCALENDAR
VERSION:2.0
PRODID:-//Damanhur Academy - ECPv6.15.20//NONSGML v1.0//EN
CALSCALE:GREGORIAN
METHOD:PUBLISH
X-WR-CALNAME:Damanhur Academy
X-ORIGINAL-URL:https://damanhur.academy
X-WR-CALDESC:Events for Damanhur Academy
REFRESH-INTERVAL;VALUE=DURATION:PT1H
X-Robots-Tag:noindex
X-PUBLISHED-TTL:PT1H
BEGIN:VTIMEZONE
TZID:Europe/Rome
BEGIN:DAYLIGHT
TZOFFSETFROM:+0100
TZOFFSETTO:+0200
TZNAME:CEST
DTSTART:20220327T010000
END:DAYLIGHT
BEGIN:STANDARD
TZOFFSETFROM:+0200
TZOFFSETTO:+0100
TZNAME:CET
DTSTART:20221030T010000
END:STANDARD
BEGIN:DAYLIGHT
TZOFFSETFROM:+0100
TZOFFSETTO:+0200
TZNAME:CEST
DTSTART:20230326T010000
END:DAYLIGHT
BEGIN:STANDARD
TZOFFSETFROM:+0200
TZOFFSETTO:+0100
TZNAME:CET
DTSTART:20231029T010000
END:STANDARD
BEGIN:DAYLIGHT
TZOFFSETFROM:+0100
TZOFFSETTO:+0200
TZNAME:CEST
DTSTART:20240331T010000
END:DAYLIGHT
BEGIN:STANDARD
TZOFFSETFROM:+0200
TZOFFSETTO:+0100
TZNAME:CET
DTSTART:20241027T010000
END:STANDARD
END:VTIMEZONE
BEGIN:VEVENT
DTSTART;VALUE=DATE:20230520
DTEND;VALUE=DATE:20230522
DTSTAMP:20260420T184552
CREATED:20230501T094134Z
LAST-MODIFIED:20230502T082927Z
UID:35667-1684540800-1684713599@damanhur.academy
SUMMARY:Philosophy and Spiritual Physics
DESCRIPTION:In this course you will explore the mysteries of the Universe and of the human being\, aiming to harmonise the current scientific approach with the ancient spiritual vision\, according to Damanhur’s school of thought. \nThe goal is to acquire the knowledge that allows a wider and more complex understanding and perception of yourself and your life. \nTo buy the course click here.  \nFor more information write to info@damanhuruniversity.org \n  \n 
URL:https://damanhur.academy/event/philosophy-and-spiritual-physic/
LOCATION:Damanhur Federazione di Comunità\, Via Baldissero\, 21\, 10080 Vidracco TO\, Italia
CATEGORIES:Course,Mystery School,Online live
ATTACH;FMTTYPE=image/jpeg:https://damanhur.academy/wp-content/uploads/2022/10/163-ELEMENTO-scaled.jpg
ORGANIZER;CN="Damanhur Academy":MAILTO:info@damanhuruniversity.org
END:VEVENT
END:VCALENDAR